BEGIN:VCALENDAR
VERSION:2.0
PRODID:-//wp-events-plugin.com//7.2.3.1//EN
TZID:Europe/Berlin
X-WR-TIMEZONE:Europe/Berlin
BEGIN:VEVENT
UID:182@staging.schumacher-alt.de
DTSTART;TZID=Europe/Berlin;VALUE=DATE:20260131
DTEND;TZID=Europe/Berlin;VALUE=DATE:20260201
DTSTAMP:20251023T093259Z
URL:https://staging.schumacher-alt.de/veranstaltungen/avdk-maedchensitzung
 /
SUMMARY:Brauhausparty der Prinzengarde Blau-Weiß
DESCRIPTION:\n\n\n\nLust auf ausgelassene Karnevalsstimmung im Schumacher S
 tammhaus? Dann merkt euch den 31. Januar 2026 vor. Zusammen mit Sitzungspr
 äsident Simon Lindecke zünden wir eine jecke Party\, wie sie im Buche st
 eht.\n\n&nbsp\;\n\nVorverkauf hier\n\n \n\n\n\n\n\n\n \n\n\n
ATTACH;FMTTYPE=image/jpeg:https://staging.schumacher-alt.de/core/upl
 oads/2023/11/BWbrauhausparty.png
CATEGORIES:Event
LOCATION:Stammhaus\, Oststraße 123\, Düsseldorf\, 40210\, Deutschland
X-APPLE-STRUCTURED-LOCATION;VALUE=URI;X-ADDRESS=Oststraße 123\, Düsseldor
 f\, 40210\, Deutschland;X-APPLE-RADIUS=100;X-TITLE=Stammhaus:geo:0,0
END:VEVENT
BEGIN:VTIMEZONE
TZID:Europe/Berlin
X-LIC-LOCATION:Europe/Berlin
BEGIN:STANDARD
DTSTART:20251026T020000
TZOFFSETFROM:+0200
TZOFFSETTO:+0100
TZNAME:CET
END:STANDARD
END:VTIMEZONE
END:VCALENDAR