BEGIN:VCALENDAR
VERSION:2.0
PRODID:-//wp-events-plugin.com//7.2.3.1//EN
TZID:Europe/Berlin
X-WR-TIMEZONE:Europe/Berlin
BEGIN:VEVENT
UID:172@staging.schumacher-alt.de
DTSTART;TZID=Europe/Berlin:20250817T170000
DTEND;TZID=Europe/Berlin:20250817T170000
DTSTAMP:20250806T115636Z
URL:https://staging.schumacher-alt.de/veranstaltungen/benefitzversteigerun
 g/
SUMMARY:Benefizversteigerung
DESCRIPTION:Manes Meckenstock versteigert Schönes &amp\; Scheußliches zug
 unsten von www.hispi.de\n\n&nbsp\;
ATTACH;FMTTYPE=image/jpeg:https://staging.schumacher-alt.de/core/upl
 oads/2025/07/Mannes-TV.jpg
CATEGORIES:Event
LOCATION:Stammhaus\, Oststraße 123\, Düsseldorf\, 40210\, Deutschland
X-APPLE-STRUCTURED-LOCATION;VALUE=URI;X-ADDRESS=Oststraße 123\, Düsseldor
 f\, 40210\, Deutschland;X-APPLE-RADIUS=100;X-TITLE=Stammhaus:geo:0,0
END:VEVENT
BEGIN:VTIMEZONE
TZID:Europe/Berlin
X-LIC-LOCATION:Europe/Berlin
BEGIN:DAYLIGHT
DTSTART:20250330T030000
TZOFFSETFROM:+0100
TZOFFSETTO:+0200
TZNAME:CEST
END:DAYLIGHT
END:VTIMEZONE
END:VCALENDAR