BEGIN:VCALENDAR
VERSION:2.0
PRODID:-//wp-events-plugin.com//7.2.3.1//EN
TZID:Europe/Berlin
X-WR-TIMEZONE:Europe/Berlin
BEGIN:VEVENT
UID:184@staging.schumacher-alt.de
DTSTART;TZID=Europe/Berlin:20260117T111100
DTEND;TZID=Europe/Berlin:20260117T111100
DTSTAMP:20251022T104639Z
URL:https://staging.schumacher-alt.de/veranstaltungen/biwak-der-ehrengarde
 /
SUMMARY:Biwak der Ehrengarde
DESCRIPTION:\n\n\n\n\nTraditionelles GardeBIWAK im Herzen der Stadt!\n\n\n\
 n\n\n\n\nNach dem phänomenalen Erfolg in der letzten Sassion 2024/25 kön
 nen wir es kaum erwarten\, euch eine brandneue Version für 2026 zu präse
 ntieren! „Das Stammhaus in Grün &amp\; Gold“ an der Oststraße 123 
 – dort feiern wir unser legendäres Biwak im Innenhof!\n\nEs erwartet un
 sere Gäste wieder ein tolles Programm!\n\nNatürlich aus Tradition:\n„P
 rinzenpaar der Landeshauptstadt Düsseldorf in Begleitung“ zahlreiche Ga
 rden &amp\; Musik &amp\; Tanzdarbietungen.\n\nMit dabei:\nEhrengarde Stadt
  Düsseldorf e.V. | Kinderprinzengarde Rot-Weiß | Prinzengarde Blau-Weiss
  | Prinzenpaar der Landeshauptstadt Düsseldorf | Gerresheimer Bürgerwehr
  | Düsseldorfer Bürgerwehr | Marienburg Garde Monheim | Bonner Stadt Sol
 daten | Stadtsoldaten Rheinbach | Ehrengarde der Stadt Bonn.\n\nWir würde
 n uns freuen\, wenn wir an diesem Tage auch Sie als unsere Gäste begrüß
 en dürfen!\n\n\n\n\n\n\nEintritt: frei!\n\n\n\n\n\n
ATTACH;FMTTYPE=image/jpeg:https://staging.schumacher-alt.de/core/upl
 oads/2025/10/ehrengarde-biwak-2026.jpg
CATEGORIES:Event
LOCATION:Stammhaus\, Oststraße 123\, Düsseldorf\, 40210\, Deutschland
X-APPLE-STRUCTURED-LOCATION;VALUE=URI;X-ADDRESS=Oststraße 123\, Düsseldor
 f\, 40210\, Deutschland;X-APPLE-RADIUS=100;X-TITLE=Stammhaus:geo:0,0
END:VEVENT
BEGIN:VTIMEZONE
TZID:Europe/Berlin
X-LIC-LOCATION:Europe/Berlin
BEGIN:STANDARD
DTSTART:20251026T020000
TZOFFSETFROM:+0200
TZOFFSETTO:+0100
TZNAME:CET
END:STANDARD
END:VTIMEZONE
END:VCALENDAR