BEGIN:VCALENDAR
VERSION:2.0
PRODID:-//wp-events-plugin.com//7.2.3.1//EN
TZID:Europe/Berlin
X-WR-TIMEZONE:Europe/Berlin
BEGIN:VEVENT
UID:139@staging.schumacher-alt.de
DTSTART;TZID=Europe/Berlin:20260110T171100
DTEND;TZID=Europe/Berlin:20260110T171100
DTSTAMP:20251022T104009Z
URL:https://staging.schumacher-alt.de/veranstaltungen/blitzparty-der-ehren
 garde/
SUMMARY:Blitzparty der Ehrengarde
DESCRIPTION:\n\n\n\n\n\n\nWir freuen uns\, bei der wohl größten „BLITZP
 ARTY“ der Stadt.\n\nMit dabei:\nHeinz Hülshoff | Fidele Kölsche | Rain
 er Lieverscheidt | Tante Käthe | Big Maggas | KG Regenbogen | Tacheles uv
 m.\n\nZwischen und nach den Auftritten sorgt ein DJ für beste Party-Stimm
 ung!\n\nWir würden uns freuen\, wenn wir an diesem Tage auch Sie als unse
 re Gäste begrüßen dürfen!\n\n\n\nEinlass: 17:11 Uhr\n\nBeginn: 18:30 U
 hr\n\nReservierungen unter: https://ehrengarde-duesseldorf.de/portfolio/bl
 itzparty/\n\n\n\n\n\n
ATTACH;FMTTYPE=image/jpeg:https://staging.schumacher-alt.de/core/upl
 oads/2023/12/ehrengarde-blitzparty-2026.png
CATEGORIES:Event
LOCATION:Stammhaus\, Oststraße 123\, Düsseldorf\, 40210\, Deutschland
X-APPLE-STRUCTURED-LOCATION;VALUE=URI;X-ADDRESS=Oststraße 123\, Düsseldor
 f\, 40210\, Deutschland;X-APPLE-RADIUS=100;X-TITLE=Stammhaus:geo:0,0
END:VEVENT
BEGIN:VTIMEZONE
TZID:Europe/Berlin
X-LIC-LOCATION:Europe/Berlin
BEGIN:STANDARD
DTSTART:20251026T020000
TZOFFSETFROM:+0200
TZOFFSETTO:+0100
TZNAME:CET
END:STANDARD
END:VTIMEZONE
END:VCALENDAR