BEGIN:VCALENDAR
VERSION:2.0
PRODID:-//wp-events-plugin.com//7.2.3.1//EN
TZID:Europe/Berlin
X-WR-TIMEZONE:Europe/Berlin
BEGIN:VEVENT
UID:161@staging.schumacher-alt.de
DTSTART;TZID=Europe/Berlin:20250201T171100
DTEND;TZID=Europe/Berlin:20250201T171100
DTSTAMP:20250131T092944Z
URL:https://staging.schumacher-alt.de/veranstaltungen/brauhausparty-der-pr
 inzengarde-blau-weiss/
SUMMARY:Brauhausparty der Prinzengarde-Blau-Weiss
DESCRIPTION:Am 01.02.2025 findet die legendäre Brauhausparty der Prinzenga
 rde-Blau-Weiss statt. Die Türen öffnen um 16:11 Uhr. Beginn ist um 17:11
  Uhr.\n\n&nbsp\;\n\nVorverkauf hier\n
ATTACH;FMTTYPE=image/jpeg:https://staging.schumacher-alt.de/core/upl
 oads/2025/01/BWBP.png
CATEGORIES:Event
LOCATION:Stammhaus\, Oststraße 123\, Düsseldorf\, 40210\, Deutschland
X-APPLE-STRUCTURED-LOCATION;VALUE=URI;X-ADDRESS=Oststraße 123\, Düsseldor
 f\, 40210\, Deutschland;X-APPLE-RADIUS=100;X-TITLE=Stammhaus:geo:0,0
END:VEVENT
BEGIN:VTIMEZONE
TZID:Europe/Berlin
X-LIC-LOCATION:Europe/Berlin
BEGIN:STANDARD
DTSTART:20241027T020000
TZOFFSETFROM:+0200
TZOFFSETTO:+0100
TZNAME:CET
END:STANDARD
END:VTIMEZONE
END:VCALENDAR