BEGIN:VCALENDAR
VERSION:2.0
PRODID:-//wp-events-plugin.com//7.2.3.1//EN
TZID:Europe/Berlin
X-WR-TIMEZONE:Europe/Berlin
BEGIN:VEVENT
UID:157@staging.schumacher-alt.de
DTSTART;TZID=Europe/Berlin:20250204T190000
DTEND;TZID=Europe/Berlin:20250204T190000
DTSTAMP:20250120T103126Z
URL:https://staging.schumacher-alt.de/veranstaltungen/brauhaussitzung-des-
 avdk-2/
SUMMARY:Mädchensitzung des AVDK
DESCRIPTION:Einlass: 18:00 Uhr / Beginn 19:00 Uhr\nMit dabei: u.a.:\nMartin
  Schopps\, Rhytmussportgruppe\, Swinging Funfares\, Alt Schuss\, Wimmer Ba
 nd\, Ingrid Kühne\, das Prinzenpaar der Landeshauptstadt Düsseldorf (Än
 derungen vorbehalten)\n\n\n\n
ATTACH;FMTTYPE=image/jpeg:https://staging.schumacher-alt.de/core/upl
 oads/2025/01/6641c5d6bdfdb5fe3fff0bc0bad89d1a.jpeg
CATEGORIES:Event
LOCATION:Stammhaus\, Oststraße 123\, Düsseldorf\, 40210\, Deutschland
X-APPLE-STRUCTURED-LOCATION;VALUE=URI;X-ADDRESS=Oststraße 123\, Düsseldor
 f\, 40210\, Deutschland;X-APPLE-RADIUS=100;X-TITLE=Stammhaus:geo:0,0
END:VEVENT
BEGIN:VTIMEZONE
TZID:Europe/Berlin
X-LIC-LOCATION:Europe/Berlin
BEGIN:STANDARD
DTSTART:20241027T020000
TZOFFSETFROM:+0200
TZOFFSETTO:+0100
TZNAME:CET
END:STANDARD
END:VTIMEZONE
END:VCALENDAR