BEGIN:VCALENDAR
VERSION:2.0
PRODID:-//wp-events-plugin.com//7.2.3.1//EN
TZID:Europe/Berlin
X-WR-TIMEZONE:Europe/Berlin
BEGIN:VEVENT
UID:163@staging.schumacher-alt.de
DTSTART;TZID=Europe/Berlin:20250501T110000
DTEND;TZID=Europe/Berlin:20250501T110000
DTSTAMP:20250422T093640Z
URL:https://staging.schumacher-alt.de/veranstaltungen/brauhoferoeffnung/
SUMMARY:Brauhoferöffnung
DESCRIPTION:Wir eröffnen unseren Brauhof im Stammhaus mit der "Gute-Laune-
 Musik" von Superjazz.\n\nDie Düsseldorfer Band SuperJazz\n\nAlle Musiker 
 sammelten\, teils seit Jahrzehnten\,\nin diversen Jazz-Bands und in Format
 ionen\nder Unterhaltungs-Musik ihre Erfahrung\,\nDas breit gefächerte Rep
 ertoire bringt\nviele Stilarten des Jazz\, sowie Evergreens und\nHits zu G
 ehör. Für die einzelnen Stilrichtungen\norientiert sich die Band unter a
 nderem an:\n\nLouis Armstrong\, Blues Brothers\, Louis Prima\,\nPaul Desmo
 nd\, Josef Zawinul\, Henry Mancini\,\nHerbie Hancock\, Stevie Wonder\, Fra
 nk Sinatra\,\nUdo Jürgens\, M.M. Westernhagen\naber auch A.Carlos Jobim (
 Latin)\, Gilbert Bécaud (Chansons)\,\nDrafi Deutscher\, Mamas And Papas\,
 \nComedian Harmonists und last but not least:\nWolfgang Amadeus Mozart.\n\
 nNatürlich kommt der New Orleans nicht zu kurz.
ATTACH;FMTTYPE=image/jpeg:https://staging.schumacher-alt.de/core/upl
 oads/2024/03/Superjazz2.jpg
CATEGORIES:Event
END:VEVENT
BEGIN:VTIMEZONE
TZID:Europe/Berlin
X-LIC-LOCATION:Europe/Berlin
BEGIN:DAYLIGHT
DTSTART:20250330T030000
TZOFFSETFROM:+0100
TZOFFSETTO:+0200
TZNAME:CEST
END:DAYLIGHT
END:VTIMEZONE
END:VCALENDAR