BEGIN:VCALENDAR
VERSION:2.0
PRODID:-//wp-events-plugin.com//7.2.3.1//EN
TZID:Europe/Berlin
X-WR-TIMEZONE:Europe/Berlin
BEGIN:VEVENT
UID:138@staging.schumacher-alt.de
DTSTART;TZID=Europe/Berlin:20260110T171500
DTEND;TZID=Europe/Berlin:20260110T230000
DTSTAMP:20251022T095411Z
URL:https://staging.schumacher-alt.de/veranstaltungen/buergersitzung-der-h
 oppeditzwache/
SUMMARY:Bürgersitzung der Hoppeditzwache
DESCRIPTION:\n\n\nDas Programm ist – wie immer – eine Überraschung fü
 r alle.\nKartenbestellungen werden ab sofort angenommen. Bitte beachtet\, 
 dass wir nur ein begrenztes Kartenkontingent verkaufen können. \n\n\nKart
 envorverkauf unter: hoppedizwache@web.de\n\n\n\nEinlass 17:15 Uhr\n\nBegin
 n 18:11 Uhr\n\n\n\n\n\n
ATTACH;FMTTYPE=image/jpeg:https://staging.schumacher-alt.de/core/upl
 oads/2024/12/Hoppeditzwache.png
CATEGORIES:Event
LOCATION:Stammhaus\, Oststraße 123\, Düsseldorf\, 40210\, Deutschland
X-APPLE-STRUCTURED-LOCATION;VALUE=URI;X-ADDRESS=Oststraße 123\, Düsseldor
 f\, 40210\, Deutschland;X-APPLE-RADIUS=100;X-TITLE=Stammhaus:geo:0,0
END:VEVENT
BEGIN:VTIMEZONE
TZID:Europe/Berlin
X-LIC-LOCATION:Europe/Berlin
BEGIN:STANDARD
DTSTART:20251026T020000
TZOFFSETFROM:+0200
TZOFFSETTO:+0100
TZNAME:CET
END:STANDARD
END:VTIMEZONE
END:VCALENDAR