BEGIN:VCALENDAR
VERSION:2.0
PRODID:-//wp-events-plugin.com//7.2.3.1//EN
TZID:Europe/Berlin
X-WR-TIMEZONE:Europe/Berlin
BEGIN:VEVENT
UID:174@staging.schumacher-alt.de
DTSTART;TZID=Europe/Berlin:20250928T170000
DTEND;TZID=Europe/Berlin:20250928T170000
DTSTAMP:20250806T112937Z
URL:https://staging.schumacher-alt.de/veranstaltungen/chefs-in-town-von-ma
 in-bis-rhein-mit-alexander-herrmann/
SUMMARY:Chefs in Town - 'Von Main bis Rhein' mit Alexander Herrmann
DESCRIPTION:Genuss &amp\; rheinische Lebensfreude bei Schumacher:\n\n„Von
  Main bis Rhein“ – Mit Sternekoch Alexander Herrmann und Küchenchef S
 tefan „Helmut“ Paefgen.\n\nAmuse-Gueule\nTeller mit zweierlei ortstypi
 schen Kleinigkeiten\, getrennt durch einen optischen „Fluss“.\n\n3-Gä
 nge Menu\nStefan Paefgen und Alexander Herrmann entführen euch auf eine g
 enussvolle Reise – mit kreativen Ideen\, starken Aromen und viel Herz am
  Herd.\n\nProgramm\nZwischen rheinischem Sound und kräftiger Blasmusik wi
 rd’s bunt. Special Guest: Dr. Stephan Keller\n\n&nbsp\;\n\nSonntag\, 28.
 09.25\nBeginn 17 Uhr (Schwemme ganztägig geöffnet)\n\n‚Von Main bis Rh
 ein‘\n111\,- € pro Person\n3 Gänge + Amuse-Gueule an liebevoll einged
 eckten Tischen\,\ninkl. ein Schumacher Alt\, ein 1838\, ein Latzenbier.\n\
 nBuchung\nDie Plätze sind begrenzt. Reservierungen sind per Mail an\n-&gt
 \; info@brauerei-schumacher.de oder telefonisch unter 0211-8289020 möglic
 h.\n\nUm die Reservierung zu garantieren ist die Zahlung per Vorkasse notw
 endig\, hierzu senden wir Ihnen nach der Reservierung eine Rechnung mit al
 len Details.\n„Von Main bis Rhein“ für 111\,- € pro Person.\n\nWich
 tig:\nDeine Buchung ist erst nach Zahlungseingang verbindlich. Nur solange
  der Vorrat reicht.\n\n\nAb 21 Uhr:\nAbschlussveranstaltung der Star-Köch
 e in der Schwemme! Zum krönenden Finale treffen sich alle Genießer noch 
 einmal zum gemeinsamen Ausklang.\n\nInfos zu Chefs in Town hier
ATTACH;FMTTYPE=image/jpeg:https://staging.schumacher-alt.de/core/upl
 oads/2025/07/Alexander-Herrmann.jpg
CATEGORIES:Event
LOCATION:Stammhaus\, Oststraße 123\, Düsseldorf\, 40210\, Deutschland
X-APPLE-STRUCTURED-LOCATION;VALUE=URI;X-ADDRESS=Oststraße 123\, Düsseldor
 f\, 40210\, Deutschland;X-APPLE-RADIUS=100;X-TITLE=Stammhaus:geo:0,0
END:VEVENT
BEGIN:VTIMEZONE
TZID:Europe/Berlin
X-LIC-LOCATION:Europe/Berlin
BEGIN:DAYLIGHT
DTSTART:20250330T030000
TZOFFSETFROM:+0100
TZOFFSETTO:+0200
TZNAME:CEST
END:DAYLIGHT
END:VTIMEZONE
END:VCALENDAR