BEGIN:VCALENDAR
VERSION:2.0
PRODID:-//wp-events-plugin.com//7.2.3.1//EN
TZID:Europe/Berlin
X-WR-TIMEZONE:Europe/Berlin
BEGIN:VEVENT
UID:180@staging.schumacher-alt.de
DTSTART;TZID=Europe/Berlin:20250824T180000
DTEND;TZID=Europe/Berlin:20250824T180000
DTSTAMP:20250805T105805Z
URL:https://staging.schumacher-alt.de/veranstaltungen/das-spiel-des-lebens
 -lesung/
SUMMARY:Das Spiel des Lebens - Lesung
DESCRIPTION:Live-Lesung - Das Spiel des Lebens - Ein Fortuna-Roman\n\nmit D
 irk Schreiber und einem Überraschungsgast aus der Aufstiegsmannschaft 201
 2\n\nEintritt frei - um Reservierung vorab wird gebeten!\n\n0211/828902-0
ATTACH;FMTTYPE=image/jpeg:https://staging.schumacher-alt.de/core/upl
 oads/2025/08/IMG_9481-scaled.jpg
CATEGORIES:Event
LOCATION:Stammhaus\, Oststraße 123\, Düsseldorf\, 40210\, Deutschland
X-APPLE-STRUCTURED-LOCATION;VALUE=URI;X-ADDRESS=Oststraße 123\, Düsseldor
 f\, 40210\, Deutschland;X-APPLE-RADIUS=100;X-TITLE=Stammhaus:geo:0,0
END:VEVENT
BEGIN:VTIMEZONE
TZID:Europe/Berlin
X-LIC-LOCATION:Europe/Berlin
BEGIN:DAYLIGHT
DTSTART:20250330T030000
TZOFFSETFROM:+0100
TZOFFSETTO:+0200
TZNAME:CEST
END:DAYLIGHT
END:VTIMEZONE
END:VCALENDAR