BEGIN:VCALENDAR
VERSION:2.0
PRODID:-//wp-events-plugin.com//7.2.3.1//EN
TZID:Europe/Berlin
X-WR-TIMEZONE:Europe/Berlin
BEGIN:VEVENT
UID:181@staging.schumacher-alt.de
DTSTART;TZID=Europe/Berlin:20250823T120000
DTEND;TZID=Europe/Berlin:20250823T180000
DTSTAMP:20250810T122450Z
URL:https://staging.schumacher-alt.de/veranstaltungen/essen-fuer-arme-und-
 reiche/
SUMMARY:Essen für Arme und Reiche
DESCRIPTION:mit Schumacher Alt
ATTACH;FMTTYPE=image/jpeg:https://staging.schumacher-alt.de/core/upl
 oads/2025/08/529238872_1162409682595059_5795505867786324323_n.jpg
CATEGORIES:Event
LOCATION:Burgplatz\, Burgplatz\, Düsseldorf\, Deutschland
X-APPLE-STRUCTURED-LOCATION;VALUE=URI;X-ADDRESS=Burgplatz\, Düsseldorf\, D
 eutschland;X-APPLE-RADIUS=100;X-TITLE=Burgplatz:geo:0,0
END:VEVENT
BEGIN:VTIMEZONE
TZID:Europe/Berlin
X-LIC-LOCATION:Europe/Berlin
BEGIN:DAYLIGHT
DTSTART:20250330T030000
TZOFFSETFROM:+0100
TZOFFSETTO:+0200
TZNAME:CEST
END:DAYLIGHT
END:VTIMEZONE
END:VCALENDAR