BEGIN:VCALENDAR
VERSION:2.0
PRODID:-//wp-events-plugin.com//7.2.3.1//EN
TZID:Europe/Berlin
X-WR-TIMEZONE:Europe/Berlin
BEGIN:VEVENT
UID:136@staging.schumacher-alt.de
DTSTART;TZID=Europe/Berlin:20251231T090000
DTEND;TZID=Europe/Berlin:20251231T150000
DTSTAMP:20251223T095547Z
URL:https://staging.schumacher-alt.de/veranstaltungen/festliches-fruehstue
 ck-an-silvester/
SUMMARY:Festliches Frühstück an Silvester
DESCRIPTION:Konfetti\, Knallbonbons und ein Tischfeuerwerk haben wir nicht\
 , aber wir zaubern Dir den\nKnaller Frühschoppen an Silvester\nAb 9:00 Uh
 r\n\nLeberwurst\, Blutwurst\nKleine Mettwürstchen\nKleine panierte Schwei
 neschnitzelchen\nKleine Frikadellchen\nRheinischer Kartoffelsalat\nRührei
  mit Speck und Zwiebeln\nSchwarzbrot\, Röggelchen\nButter\n\nPro Person 3
 1\,12 €\n\n(Alle weiteren Getränke werden separat berechnet)\n\n&nbsp\;
 \n\nWir wünschen Dir und Deinen Lieben ein Frohes und gesegnetes Fest\,\n
 mit allem was Dich glücklich macht!\nFür 2026 hoffen wir auf viele gemei
 nsame Momente bei uns in der Schumacher-Altbiermanufaktur.\n\nLeben – Li
 eben – Lachen soll Euch an den Festtagen begleiten.\n\nHerzlichst Eure\n
 Familie Schnitzler-Ungermann und alle Mitarbeitenden
ATTACH;FMTTYPE=image/jpeg:https://staging.schumacher-alt.de/core/upl
 oads/2024/10/Fruehstueck-Silvester.png
CATEGORIES:Event
LOCATION:Stammhaus\, Oststraße 123\, Düsseldorf\, 40210\, Deutschland
X-APPLE-STRUCTURED-LOCATION;VALUE=URI;X-ADDRESS=Oststraße 123\, Düsseldor
 f\, 40210\, Deutschland;X-APPLE-RADIUS=100;X-TITLE=Stammhaus:geo:0,0
END:VEVENT
BEGIN:VTIMEZONE
TZID:Europe/Berlin
X-LIC-LOCATION:Europe/Berlin
BEGIN:STANDARD
DTSTART:20251026T020000
TZOFFSETFROM:+0200
TZOFFSETTO:+0100
TZNAME:CET
END:STANDARD
END:VTIMEZONE
END:VCALENDAR