BEGIN:VCALENDAR
VERSION:2.0
PRODID:-//wp-events-plugin.com//7.2.3.1//EN
TZID:Europe/Berlin
X-WR-TIMEZONE:Europe/Berlin
BEGIN:VEVENT
UID:165@staging.schumacher-alt.de
DTSTART;TZID=Europe/Berlin:20250505T150000
DTEND;TZID=Europe/Berlin:20250505T220000
DTSTAMP:20250503T131932Z
URL:https://staging.schumacher-alt.de/veranstaltungen/fortuna-kneipen-rall
 ye/
SUMMARY:Fortuna-Kneipen-Rallye
DESCRIPTION:Schumacher -"Im Goldenen Kessel" macht mit.\n\nSo funktioniert
 ’s:\n\nSchnapp Dir am Montag\, 05. Mai\,ab 17 Uhr bei allen teilnehmende
 n Kneipen Deine persönliche Rallyekarte\, hole Dir 5 Stempel aus 5 versch
 iedenen Kneipen und gib die volle Karte bis 22:45 Uhr am Fortuna-Stand vor
  dem Fanshop am Burgplatz ab.\n\nDein Einsatz zählt doppelt:\nFür jede v
 olle Karte spenden Fortuna Düsseldorf und TARGOBANK je 1\,30 € an den
  Gute-Nacht-Bus\, der an 5 Tagen pro Woche seinen Standort in der Altstadt
  hat.\n\nUnd das Beste:\nMit Abgabe Deiner Karte nimmst Du automatisch an 
 unserer Verlosung teil – Gewinne wie exklusive Stadionerlebnisse und For
 tuna-Trikots warten auf Dich!\n\nDie Gewinne:\nPlatz 1: 2x VIP-Südkarten 
 Schalke 04 + Unterschriebener Ball\,\nPlatz 2: Matchworn Sondertrikot\,\nP
 latz 3: Unterschriebenes Heimtrikot\,\nPlatz 4-10: 130 Jahre Jacke
ATTACH;FMTTYPE=image/jpeg:https://staging.schumacher-alt.de/core/upl
 oads/2025/05/cropped-F95_Logo_rgb_Standard-pxw2gqlizbs49y0zv1dpcbt8egm8ubl
 4ptsv1f3z30.png
CATEGORIES:Event
LOCATION:Im Goldenen Kessel\, Bolkerstraße 44\, Düsseldorf\, 40213\, Deut
 schland
X-APPLE-STRUCTURED-LOCATION;VALUE=URI;X-ADDRESS=Bolkerstraße 44\, Düsseld
 orf\, 40213\, Deutschland;X-APPLE-RADIUS=100;X-TITLE=Im Goldenen Kessel:ge
 o:0,0
END:VEVENT
BEGIN:VTIMEZONE
TZID:Europe/Berlin
X-LIC-LOCATION:Europe/Berlin
BEGIN:DAYLIGHT
DTSTART:20250330T030000
TZOFFSETFROM:+0100
TZOFFSETTO:+0200
TZNAME:CEST
END:DAYLIGHT
END:VTIMEZONE
END:VCALENDAR