BEGIN:VCALENDAR
VERSION:2.0
PRODID:-//wp-events-plugin.com//7.2.3.1//EN
TZID:Europe/Berlin
X-WR-TIMEZONE:Europe/Berlin
BEGIN:VEVENT
UID:153@staging.schumacher-alt.de
DTSTART;TZID=Europe/Berlin:20260125T110000
DTEND;TZID=Europe/Berlin:20260125T110000
DTSTAMP:20251109T075804Z
URL:https://staging.schumacher-alt.de/veranstaltungen/herrensitzung-der-ge
 rresheimer-buergerwehr/
SUMMARY:Herrensitzung der Gerresheimer Bürgerwehr
DESCRIPTION:Nur mit Eintrittskarte\nEinlass: 10:00 Uhr / Beginn: 11:00 Uhr\
 nGraf-Recke-Str. 170\, Aula der Heinrich-Heine-Gesamtschule\, 40237 Düsse
 ldorf\n\nWeiter Informationen auf der Homepage der Gerresheimer Bürgerweh
 r.\n\n\n\n\n\n\n
ATTACH;FMTTYPE=image/jpeg:https://staging.schumacher-alt.de/core/upl
 oads/2025/01/VA-Gerresheimer-Buergerwehr.png
CATEGORIES:Event
LOCATION:Herrensitzung der Gerresheimer Bürgerwehr\, Graf-Recke-Str. 170\,
  Aula der Heinrich-Heine-Gesamtschule\, Düsseldorf\, 40237\, Deutschland
X-APPLE-STRUCTURED-LOCATION;VALUE=URI;X-ADDRESS=Graf-Recke-Str. 170\, Aula 
 der Heinrich-Heine-Gesamtschule\, Düsseldorf\, 40237\, Deutschland;X-APPL
 E-RADIUS=100;X-TITLE=Herrensitzung der Gerresheimer Bürgerwehr:geo:0,0
END:VEVENT
BEGIN:VTIMEZONE
TZID:Europe/Berlin
X-LIC-LOCATION:Europe/Berlin
BEGIN:STANDARD
DTSTART:20251026T020000
TZOFFSETFROM:+0200
TZOFFSETTO:+0100
TZNAME:CET
END:STANDARD
END:VTIMEZONE
END:VCALENDAR