BEGIN:VCALENDAR
VERSION:2.0
PRODID:-//wp-events-plugin.com//7.2.3.1//EN
TZID:Europe/Berlin
X-WR-TIMEZONE:Europe/Berlin
BEGIN:VEVENT
UID:146@staging.schumacher-alt.de
DTSTART;TZID=Europe/Berlin:20250305T150000
DTEND;TZID=Europe/Berlin:20250305T230000
DTSTAMP:20250113T095236Z
URL:https://staging.schumacher-alt.de/veranstaltungen/hoppeditz-beerdigung
 /
SUMMARY:Hoppeditz Beerdigung
DESCRIPTION:im Goldenen Kessel\n\nAm Mittwoch den 05.03.25 kommen wir zum t
 raurigen Tag des Karnevals: Der Hoppeditz wird "Im Goldenen Kessel" beerdi
 gt.\n\nAber natürlich feiern wir dies\n
ATTACH;FMTTYPE=image/jpeg:https://staging.schumacher-alt.de/core/upl
 oads/2024/02/7CD4ED89-C26F-490A-8161-15F8ACC6B98B-scaled.jpeg
CATEGORIES:Event
END:VEVENT
BEGIN:VTIMEZONE
TZID:Europe/Berlin
X-LIC-LOCATION:Europe/Berlin
BEGIN:STANDARD
DTSTART:20241027T020000
TZOFFSETFROM:+0200
TZOFFSETTO:+0100
TZNAME:CET
END:STANDARD
END:VTIMEZONE
END:VCALENDAR