BEGIN:VCALENDAR
VERSION:2.0
PRODID:-//wp-events-plugin.com//7.2.3.1//EN
TZID:Europe/Berlin
X-WR-TIMEZONE:Europe/Berlin
BEGIN:VEVENT
UID:137@staging.schumacher-alt.de
DTSTART;TZID=Europe/Berlin:20241111T090000
DTEND;TZID=Europe/Berlin:20241111T220000
DTSTAMP:20241024T091817Z
URL:https://staging.schumacher-alt.de/veranstaltungen/hoppeditz-erwachen/
SUMMARY:Hoppeditz erwachen
DESCRIPTION:Hopp\, hopp "Hoppeditz erwachen" am 11.11.2024 im Goldenen Kess
 el.\nFrühstück ab 9 Uhr\nLiveprogramm ab 12 Uhr mit Jeck United\, DJ Sun
 dance &amp\; Co. und Hermes und Band! Wir freuen uns wie jeck auf Euch"\nV
 orbestellungen und Reservierungen unter 0211-8289020
ATTACH;FMTTYPE=image/jpeg:https://staging.schumacher-alt.de/core/upl
 oads/2024/10/Hoppeditz.png
CATEGORIES:Event
LOCATION:Im Goldenen Kessel\, Bolkerstraße 44\, Düsseldorf\, 40213\, Deut
 schland
X-APPLE-STRUCTURED-LOCATION;VALUE=URI;X-ADDRESS=Bolkerstraße 44\, Düsseld
 orf\, 40213\, Deutschland;X-APPLE-RADIUS=100;X-TITLE=Im Goldenen Kessel:ge
 o:0,0
END:VEVENT
BEGIN:VTIMEZONE
TZID:Europe/Berlin
X-LIC-LOCATION:Europe/Berlin
BEGIN:STANDARD
DTSTART:20241027T020000
TZOFFSETFROM:+0200
TZOFFSETTO:+0100
TZNAME:CET
END:STANDARD
END:VTIMEZONE
END:VCALENDAR