BEGIN:VCALENDAR
VERSION:2.0
PRODID:-//wp-events-plugin.com//7.2.3.1//EN
TZID:Europe/Berlin
X-WR-TIMEZONE:Europe/Berlin
BEGIN:VEVENT
UID:169@staging.schumacher-alt.de
DTSTART;TZID=Europe/Berlin:20251111T113000
DTEND;TZID=Europe/Berlin:20251111T230000
DTSTAMP:20250507T114449Z
URL:https://staging.schumacher-alt.de/veranstaltungen/hoppeditzerwachen-im
 -goldenen-kessel-2/
SUMMARY:Hoppeditzerwachen - Im Goldenen Kessel
DESCRIPTION:\n\n\n\n\nBeginnt mit uns die jecke Jahreszeit Im Goldenen Kess
 el mit frisch gezapftem Schumacher Alt!\n\nReservierungen bitte unter info
 @brauerei-schumacher.de oder 02118289020\n\n\n\n\n
ATTACH;FMTTYPE=image/jpeg:https://staging.schumacher-alt.de/core/upl
 oads/2023/10/Hoppeditzerwachen.png
CATEGORIES:Event
LOCATION:Im Goldenen Kessel\, Bolkerstraße 44\, Düsseldorf\, 40213\, Deut
 schland
X-APPLE-STRUCTURED-LOCATION;VALUE=URI;X-ADDRESS=Bolkerstraße 44\, Düsseld
 orf\, 40213\, Deutschland;X-APPLE-RADIUS=100;X-TITLE=Im Goldenen Kessel:ge
 o:0,0
END:VEVENT
BEGIN:VTIMEZONE
TZID:Europe/Berlin
X-LIC-LOCATION:Europe/Berlin
BEGIN:STANDARD
DTSTART:20251026T020000
TZOFFSETFROM:+0200
TZOFFSETTO:+0100
TZNAME:CET
END:STANDARD
END:VTIMEZONE
END:VCALENDAR