BEGIN:VCALENDAR
VERSION:2.0
PRODID:-//wp-events-plugin.com//7.2.3.1//EN
TZID:Europe/Berlin
X-WR-TIMEZONE:Europe/Berlin
BEGIN:VEVENT
UID:160@staging.schumacher-alt.de
DTSTART;TZID=Europe/Berlin:20250301T173000
DTEND;TZID=Europe/Berlin:20250301T173000
DTSTAMP:20250130T103841Z
URL:https://staging.schumacher-alt.de/veranstaltungen/karnevallssamstag-mi
 t-guggenmusik-tacheles/
SUMMARY:Karnevalssamstag mit Guggenmusik\, Jeck United & Tacheles
DESCRIPTION:Mit Guggenmusik\, Tacheles und Jeck United\n\nReservierung empf
 ohlen: 0211/8289020
ATTACH;FMTTYPE=image/jpeg:https://staging.schumacher-alt.de/core/upl
 oads/2025/01/Tacheles-Koeln-Livebilder_035.png
CATEGORIES:Event
LOCATION:Stammhaus\, Oststraße 123\, Düsseldorf\, 40210\, Deutschland
X-APPLE-STRUCTURED-LOCATION;VALUE=URI;X-ADDRESS=Oststraße 123\, Düsseldor
 f\, 40210\, Deutschland;X-APPLE-RADIUS=100;X-TITLE=Stammhaus:geo:0,0
END:VEVENT
BEGIN:VTIMEZONE
TZID:Europe/Berlin
X-LIC-LOCATION:Europe/Berlin
BEGIN:STANDARD
DTSTART:20241027T020000
TZOFFSETFROM:+0200
TZOFFSETTO:+0100
TZNAME:CET
END:STANDARD
END:VTIMEZONE
END:VCALENDAR