BEGIN:VCALENDAR
VERSION:2.0
PRODID:-//wp-events-plugin.com//7.2.3.1//EN
TZID:Europe/Berlin
X-WR-TIMEZONE:Europe/Berlin
BEGIN:VEVENT
UID:152@staging.schumacher-alt.de
DTSTART;TZID=Europe/Berlin:20260124T140000
DTEND;TZID=Europe/Berlin:20260124T140000
DTSTAMP:20251109T075447Z
URL:https://staging.schumacher-alt.de/veranstaltungen/kinderkarneval-der-g
 erresheimer-buergerwehr/
SUMMARY:Kinderkarneval der Gerresheimer Bürgerwehr
DESCRIPTION:Nur mit Eintrittskarte\nEinlass: 13:00 Uhr / Beginn: 14:00 Uhr\
 nVorverkaufsstellen in Gerresheim: Brillen Müller / Gerricus-Apotheke / H
 örgeräte Wippermann\nGraf-Recke-Str. 170\, Aula der Heinrich-Heine-Gesam
 tschule\, 40237 Düsseldorf\n\nWeiter Informationen auf der Homepage der G
 erresheimer Bürgerwehr.\n\n\n\n\n
ATTACH;FMTTYPE=image/jpeg:https://staging.schumacher-alt.de/core/upl
 oads/2025/01/VA-Gerresheimer-Buergerwehr.png
CATEGORIES:Event
LOCATION:Kinderkarneval der Gerresheimer Bürgerwehr\, Graf-Recke-Str. 170\
 , Aula der Heinrich-Heine-Gesamtschule\, Düsseldorf\, 40237\, Deutschland
X-APPLE-STRUCTURED-LOCATION;VALUE=URI;X-ADDRESS=Graf-Recke-Str. 170\, Aula 
 der Heinrich-Heine-Gesamtschule\, Düsseldorf\, 40237\, Deutschland;X-APPL
 E-RADIUS=100;X-TITLE=Kinderkarneval der Gerresheimer Bürgerwehr:geo:0,0
END:VEVENT
BEGIN:VTIMEZONE
TZID:Europe/Berlin
X-LIC-LOCATION:Europe/Berlin
BEGIN:STANDARD
DTSTART:20251026T020000
TZOFFSETFROM:+0200
TZOFFSETTO:+0100
TZNAME:CET
END:STANDARD
END:VTIMEZONE
END:VCALENDAR