BEGIN:VCALENDAR
VERSION:2.0
PRODID:-//wp-events-plugin.com//7.2.3.1//EN
TZID:Europe/Berlin
X-WR-TIMEZONE:Europe/Berlin
BEGIN:VEVENT
UID:140@staging.schumacher-alt.de
DTSTART;TZID=Europe/Berlin:20251127T191100
DTEND;TZID=Europe/Berlin:20251127T191100
DTSTAMP:20251024T081626Z
URL:https://staging.schumacher-alt.de/veranstaltungen/komm-los-mer-jet-sin
 ge-5/
SUMMARY:Komm los mer jet singe
DESCRIPTION:Einlass ab 18:33 Uhr\n\nDamit ihr textsicher durch die Session 
 kommt.\n
ATTACH;FMTTYPE=image/jpeg:https://staging.schumacher-alt.de/core/upl
 oads/2025/01/Los-mer-jet-singe-Ausverkauft.png
CATEGORIES:Event
LOCATION:Stammhaus\, Oststraße 123\, Düsseldorf\, 40210\, Deutschland
X-APPLE-STRUCTURED-LOCATION;VALUE=URI;X-ADDRESS=Oststraße 123\, Düsseldor
 f\, 40210\, Deutschland;X-APPLE-RADIUS=100;X-TITLE=Stammhaus:geo:0,0
END:VEVENT
BEGIN:VTIMEZONE
TZID:Europe/Berlin
X-LIC-LOCATION:Europe/Berlin
BEGIN:STANDARD
DTSTART:20251026T020000
TZOFFSETFROM:+0200
TZOFFSETTO:+0100
TZNAME:CET
END:STANDARD
END:VTIMEZONE
END:VCALENDAR