BEGIN:VCALENDAR
VERSION:2.0
PRODID:-//wp-events-plugin.com//7.2.3.1//EN
TZID:Europe/Berlin
X-WR-TIMEZONE:Europe/Berlin
BEGIN:VEVENT
UID:185@staging.schumacher-alt.de
DTSTART;TZID=Europe/Berlin:20260207T190000
DTEND;TZID=Europe/Berlin:20260207T190000
DTSTAMP:20251023T095237Z
URL:https://staging.schumacher-alt.de/veranstaltungen/kostuemsitzung-prinz
 engarde-blau-weiss/
SUMMARY:Kostümsitzung -  Prinzengarde Blau-Weiß
DESCRIPTION:\n\n\n\nFeiert mit uns die Kultveranstaltung der Garde! Freut e
 uch auf ein buntes Programm\, tolle Gäste\, viel Musik und beste Stimmung
 . Unsere Kostümsitzung steigt am 7. Februar 2026 . Tickets könnt ihr euc
 h ab sofort unter www.kaufdeinticket.de sichern.\n\n&nbsp\;\n\n&nbsp\;\n\n
  \n\n\n\n\n\n\n \n\n\n
ATTACH;FMTTYPE=image/jpeg:https://staging.schumacher-alt.de/core/upl
 oads/2025/10/Prinzengarde-Blau-Weiss-Hilton.png
CATEGORIES:Event
LOCATION:Hilton Düsseldorf\, Georg-Glock-Straße 20\, Düsseldorf\, NRW\, 
 40474 \, Deutschland
X-APPLE-STRUCTURED-LOCATION;VALUE=URI;X-ADDRESS=Georg-Glock-Straße 20\, D
 üsseldorf\, NRW\, 40474 \, Deutschland;X-APPLE-RADIUS=100;X-TITLE=Hilton 
 Düsseldorf:geo:0,0
END:VEVENT
BEGIN:VTIMEZONE
TZID:Europe/Berlin
X-LIC-LOCATION:Europe/Berlin
BEGIN:STANDARD
DTSTART:20251026T020000
TZOFFSETFROM:+0200
TZOFFSETTO:+0100
TZNAME:CET
END:STANDARD
END:VTIMEZONE
END:VCALENDAR