BEGIN:VCALENDAR
VERSION:2.0
PRODID:-//wp-events-plugin.com//7.2.3.1//EN
TZID:Europe/Berlin
X-WR-TIMEZONE:Europe/Berlin
BEGIN:VEVENT
UID:147@staging.schumacher-alt.de
DTSTART;TZID=Europe/Berlin:20250918T150000
DTEND;TZID=Europe/Berlin:20250918T220000
DTSTAMP:20250819T044603Z
URL:https://staging.schumacher-alt.de/veranstaltungen/latzenbier-im-brauho
 f-3/
SUMMARY:Latzenbier im Brauhof
DESCRIPTION:Mit Livemusik von AKL - Auch keine Lösung\n\nDie Latzenbier-Pa
 rty steigt wieder im Brauhof auf der Oststraße 123!\n\nEinlass: ab 15 Uhr
 \n\nDas beliebte SCHUMACHER LATZEN gibt es nur dreimal im Jahr – jeweils
  am dritten Donnerstag im März\, September und November – und das ist j
 edes Mal ein Grund zum Feiern! Damit führen wir eine alte Tradition weite
 r\, denn das Latzenbier steht seit jeher für einen feierlichen Anlass. Be
 sonders gelungenes Bier legten die Braumeister früher “op de Latt” un
 d schenkten es nur zu ausgesuchten Gelegenheiten oder an gute Freunde aus.
  \n\nMehr Infos zum Latzenbier gibt's hier\n\n\n
ATTACH;FMTTYPE=image/jpeg:https://staging.schumacher-alt.de/core/upl
 oads/2023/04/VA-Latzenbier-September-2023-1.png
CATEGORIES:Event
LOCATION:Stammhaus\, Oststraße 123\, Düsseldorf\, 40210\, Deutschland
X-APPLE-STRUCTURED-LOCATION;VALUE=URI;X-ADDRESS=Oststraße 123\, Düsseldor
 f\, 40210\, Deutschland;X-APPLE-RADIUS=100;X-TITLE=Stammhaus:geo:0,0
END:VEVENT
BEGIN:VTIMEZONE
TZID:Europe/Berlin
X-LIC-LOCATION:Europe/Berlin
BEGIN:DAYLIGHT
DTSTART:20250330T030000
TZOFFSETFROM:+0100
TZOFFSETTO:+0200
TZNAME:CEST
END:DAYLIGHT
END:VTIMEZONE
END:VCALENDAR