BEGIN:VCALENDAR
VERSION:2.0
PRODID:-//wp-events-plugin.com//7.2.3.1//EN
TZID:Europe/Berlin
X-WR-TIMEZONE:Europe/Berlin
BEGIN:VEVENT
UID:144@staging.schumacher-alt.de
DTSTART;TZID=Europe/Berlin:20250320T150000
DTEND;TZID=Europe/Berlin:20250320T220000
DTSTAMP:20250129T074055Z
URL:https://staging.schumacher-alt.de/veranstaltungen/latzenbier-im-brauho
 f/
SUMMARY:Latzenbier im Brauhof
DESCRIPTION:Mit Livemusik ab 17 Uhr von der "Freakshow"\n\nDie Latzenbier-P
 arty steigt wieder im Brauhof auf der Oststraße 123!\n\nEinlass: ab 15 Uh
 r\n\nDas beliebte SCHUMACHER LATZEN gibt es nur dreimal im Jahr – jeweil
 s am dritten Donnerstag im März\, September und November – und das ist 
 jedes Mal ein Grund zum Feiern! Damit führen wir eine alte Tradition weit
 er\, denn das Latzenbier steht seit jeher für einen feierlichen Anlass. B
 esonders gelungenes Bier legten die Braumeister früher “op de Latt” u
 nd schenkten es nur zu ausgesuchten Gelegenheiten oder an gute Freunde aus
 . \n\nMehr Infos zum Latzenbier gibt's hier: www.schumacher-alt.de/unser-a
 lt/latzen\n\nMehr Infos zur Band folgen\n\n
ATTACH;FMTTYPE=image/jpeg:https://staging.schumacher-alt.de/core/upl
 oads/2023/04/VA-Latzenbier-September-2023-1.png
CATEGORIES:Event
LOCATION:Stammhaus\, Oststraße 123\, Düsseldorf\, 40210\, Deutschland
X-APPLE-STRUCTURED-LOCATION;VALUE=URI;X-ADDRESS=Oststraße 123\, Düsseldor
 f\, 40210\, Deutschland;X-APPLE-RADIUS=100;X-TITLE=Stammhaus:geo:0,0
END:VEVENT
BEGIN:VTIMEZONE
TZID:Europe/Berlin
X-LIC-LOCATION:Europe/Berlin
BEGIN:STANDARD
DTSTART:20241027T020000
TZOFFSETFROM:+0200
TZOFFSETTO:+0100
TZNAME:CET
END:STANDARD
END:VTIMEZONE
END:VCALENDAR