BEGIN:VCALENDAR
VERSION:2.0
PRODID:-//wp-events-plugin.com//7.2.3.1//EN
TZID:Europe/Berlin
X-WR-TIMEZONE:Europe/Berlin
BEGIN:VEVENT
UID:149@staging.schumacher-alt.de
DTSTART;TZID=Europe/Berlin:20250918T150000
DTEND;TZID=Europe/Berlin:20250918T220000
DTSTAMP:20250819T124045Z
URL:https://staging.schumacher-alt.de/veranstaltungen/latzenbier-im-golden
 en-kessel-5/
SUMMARY:Latzenbier Im Goldenen Kessel
DESCRIPTION:Die Latzenbier-Party steigt\n\nEinlass: ab 15 Uhr\n\nDas belieb
 te SCHUMACHER LATZEN gibt es nur dreimal im Jahr – jeweils am dritten Do
 nnerstag im März\, September und November – und das ist jedes Mal ein G
 rund zum Feiern! Damit führen wir eine alte Tradition weiter\, denn das L
 atzenbier steht seit jeher für einen feierlichen Anlass. Besonders gelung
 enes Bier legten die Braumeister früher “op de Latt” und schenkten es
  nur zu ausgesuchten Gelegenheiten oder an gute Freunde aus. \n\nMehr Info
 s zum Latzenbier gibt's hier\n\n
ATTACH;FMTTYPE=image/jpeg:https://staging.schumacher-alt.de/core/upl
 oads/2023/10/Flasche_Latzen.png
CATEGORIES:Event
LOCATION:Im Goldenen Kessel\, Bolkerstraße 44\, Düsseldorf\, 40213\, Deut
 schland
X-APPLE-STRUCTURED-LOCATION;VALUE=URI;X-ADDRESS=Bolkerstraße 44\, Düsseld
 orf\, 40213\, Deutschland;X-APPLE-RADIUS=100;X-TITLE=Im Goldenen Kessel:ge
 o:0,0
END:VEVENT
BEGIN:VTIMEZONE
TZID:Europe/Berlin
X-LIC-LOCATION:Europe/Berlin
BEGIN:DAYLIGHT
DTSTART:20250330T030000
TZOFFSETFROM:+0100
TZOFFSETTO:+0200
TZNAME:CEST
END:DAYLIGHT
END:VTIMEZONE
END:VCALENDAR