BEGIN:VCALENDAR
VERSION:2.0
PRODID:-//wp-events-plugin.com//7.2.3.1//EN
TZID:Europe/Berlin
X-WR-TIMEZONE:Europe/Berlin
BEGIN:VEVENT
UID:186@staging.schumacher-alt.de
DTSTART;TZID=Europe/Berlin:20251217T170000
DTEND;TZID=Europe/Berlin:20251217T220000
DTSTAMP:20251031T115008Z
URL:https://staging.schumacher-alt.de/veranstaltungen/latzenfeuerkessel/
SUMMARY:Latzenfeuerkessel
DESCRIPTION:Ab 17 Uhr im Brauhof des Stammhauses an der Oststraße 123.\n\n
 Mit Grünkohl\, Waffeln\, Veganen Überraschungen\, Schumacher Alt und dem
  einzigartigen Latzenfeuerkessel\nAlles in Weihnachtlicher Atmosphäre\n\n
 Mit musikalischer Untermalung\n\nOHNE Reservierung\n\n&nbsp\;
ATTACH;FMTTYPE=image/jpeg:https://staging.schumacher-alt.de/core/upl
 oads/2023/10/Latzenfeuerkessel.png
CATEGORIES:Event
LOCATION:Stammhaus\, Oststraße 123\, Düsseldorf\, 40210\, Deutschland
X-APPLE-STRUCTURED-LOCATION;VALUE=URI;X-ADDRESS=Oststraße 123\, Düsseldor
 f\, 40210\, Deutschland;X-APPLE-RADIUS=100;X-TITLE=Stammhaus:geo:0,0
END:VEVENT
BEGIN:VTIMEZONE
TZID:Europe/Berlin
X-LIC-LOCATION:Europe/Berlin
BEGIN:STANDARD
DTSTART:20251026T020000
TZOFFSETFROM:+0200
TZOFFSETTO:+0100
TZNAME:CET
END:STANDARD
END:VTIMEZONE
END:VCALENDAR