BEGIN:VCALENDAR
VERSION:2.0
PRODID:-//wp-events-plugin.com//7.2.3.1//EN
TZID:Europe/Berlin
X-WR-TIMEZONE:Europe/Berlin
BEGIN:VEVENT
UID:170@staging.schumacher-alt.de
DTSTART;TZID=Europe/Berlin;VALUE=DATE:20251028
DTEND;TZID=Europe/Berlin;VALUE=DATE:20251224
DTSTAMP:20250725T095816Z
URL:https://staging.schumacher-alt.de/veranstaltungen/leckere-gaense/
SUMMARY:Gänsezeit im Schumacher
DESCRIPTION:\n\n\n\n\nWir servieren eine ganze Gans für ca. 4 Personen.\nB
 itte vorbestellen\, mindestens fünf Werktage im Voraus\, unter info@braue
 rei-schumacher.de oder 02118289020\n\n\n\n\n
ATTACH;FMTTYPE=image/jpeg:https://staging.schumacher-alt.de/core/upl
 oads/2023/10/Die-Gaense-sind-eingeflattert.png
CATEGORIES:Event,Nicht auf Startseite anzeigen
LOCATION:Stammhaus\, Oststraße 123\, Düsseldorf\, 40210\, Deutschland
X-APPLE-STRUCTURED-LOCATION;VALUE=URI;X-ADDRESS=Oststraße 123\, Düsseldor
 f\, 40210\, Deutschland;X-APPLE-RADIUS=100;X-TITLE=Stammhaus:geo:0,0
END:VEVENT
BEGIN:VTIMEZONE
TZID:Europe/Berlin
X-LIC-LOCATION:Europe/Berlin
BEGIN:STANDARD
DTSTART:20251026T020000
TZOFFSETFROM:+0200
TZOFFSETTO:+0100
TZNAME:CET
END:STANDARD
END:VTIMEZONE
END:VCALENDAR