BEGIN:VCALENDAR
VERSION:2.0
PRODID:-//wp-events-plugin.com//7.2.3.1//EN
TZID:Europe/Berlin
X-WR-TIMEZONE:Europe/Berlin
BEGIN:VEVENT
UID:164@staging.schumacher-alt.de
DTSTART;TZID=Europe/Berlin:20250511T110000
DTEND;TZID=Europe/Berlin:20250511T110000
DTSTAMP:20250424T104140Z
URL:https://staging.schumacher-alt.de/veranstaltungen/muttertagsbrunch/
SUMMARY:Muttertagsbrunch
DESCRIPTION:Am 11.05.2025 gibt's im Stammhaus wieder unseren Muttertagsbrun
 ch.\n\nAb 11:00 Uhr geht's los. Bitte frühzeitig reservieren.\n\nPro Pers
 on 42\,00 €\nKinder ab 12 Jahre 20\,00 €\nKinder unter 12 Jahren zahle
 n 1\,00 € pro Lebensjahr
ATTACH;FMTTYPE=image/jpeg:https://staging.schumacher-alt.de/core/upl
 oads/2023/04/Muttertagsbrunch-110525-scaled.png
CATEGORIES:Event
LOCATION:Stammhaus\, Oststraße 123\, Düsseldorf\, 40210\, Deutschland
X-APPLE-STRUCTURED-LOCATION;VALUE=URI;X-ADDRESS=Oststraße 123\, Düsseldor
 f\, 40210\, Deutschland;X-APPLE-RADIUS=100;X-TITLE=Stammhaus:geo:0,0
END:VEVENT
BEGIN:VTIMEZONE
TZID:Europe/Berlin
X-LIC-LOCATION:Europe/Berlin
BEGIN:DAYLIGHT
DTSTART:20250330T030000
TZOFFSETFROM:+0100
TZOFFSETTO:+0200
TZNAME:CEST
END:DAYLIGHT
END:VTIMEZONE
END:VCALENDAR