BEGIN:VCALENDAR
VERSION:2.0
PRODID:-//wp-events-plugin.com//7.2.3.1//EN
TZID:Europe/Berlin
X-WR-TIMEZONE:Europe/Berlin
BEGIN:VEVENT
UID:159@staging.schumacher-alt.de
DTSTART;TZID=Europe/Berlin:20250223T110000
DTEND;TZID=Europe/Berlin:20250223T110000
DTSTAMP:20250130T072753Z
URL:https://staging.schumacher-alt.de/veranstaltungen/naerrischer-fruehsch
 oppen-im-goldenen-kessel/
SUMMARY:Närrischer Frühschoppen im Goldenen Kessel
DESCRIPTION:Mit dem Prinzenpaar &amp\; Jeck United\n\nJetzt (Steh-)Plätze 
 reservieren unter 0211/8289020
ATTACH;FMTTYPE=image/jpeg:https://staging.schumacher-alt.de/core/upl
 oads/2025/01/Jeck-UnitedFoto-von-Dominik-Roewer-2024.001.png
CATEGORIES:Event
LOCATION:Im Goldenen Kessel\, Bolkerstraße 44\, Düsseldorf\, 40213\, Deut
 schland
X-APPLE-STRUCTURED-LOCATION;VALUE=URI;X-ADDRESS=Bolkerstraße 44\, Düsseld
 orf\, 40213\, Deutschland;X-APPLE-RADIUS=100;X-TITLE=Im Goldenen Kessel:ge
 o:0,0
END:VEVENT
BEGIN:VTIMEZONE
TZID:Europe/Berlin
X-LIC-LOCATION:Europe/Berlin
BEGIN:STANDARD
DTSTART:20241027T020000
TZOFFSETFROM:+0200
TZOFFSETTO:+0100
TZNAME:CET
END:STANDARD
END:VTIMEZONE
END:VCALENDAR