BEGIN:VCALENDAR
VERSION:2.0
PRODID:-//wp-events-plugin.com//7.2.3.1//EN
TZID:Europe/Berlin
X-WR-TIMEZONE:Europe/Berlin
BEGIN:VEVENT
UID:175@staging.schumacher-alt.de
DTSTART;TZID=Europe/Berlin;VALUE=DATE:20250730
DTEND;TZID=Europe/Berlin;VALUE=DATE:20250804
DTSTAMP:20250806T060050Z
URL:https://staging.schumacher-alt.de/veranstaltungen/pfannkuchenwoche-3/
SUMMARY:Pfannkuchenwoche
DESCRIPTION:
ATTACH;FMTTYPE=image/jpeg:https://staging.schumacher-alt.de/core/upl
 oads/2023/06/VA-Pfannkuchenwoche-1.png
CATEGORIES:Event
END:VEVENT
BEGIN:VTIMEZONE
TZID:Europe/Berlin
X-LIC-LOCATION:Europe/Berlin
BEGIN:DAYLIGHT
DTSTART:20250330T030000
TZOFFSETFROM:+0100
TZOFFSETTO:+0200
TZNAME:CEST
END:DAYLIGHT
END:VTIMEZONE
END:VCALENDAR