BEGIN:VCALENDAR
VERSION:2.0
PRODID:-//wp-events-plugin.com//7.2.3.1//EN
TZID:Europe/Berlin
X-WR-TIMEZONE:Europe/Berlin
BEGIN:VEVENT
UID:178@staging.schumacher-alt.de
DTSTART;TZID=Europe/Berlin:20250812T000000
DTEND;TZID=Europe/Berlin:20250817T000000
DTSTAMP:20250806T115518Z
URL:https://staging.schumacher-alt.de/veranstaltungen/schnitzel-woche/
SUMMARY:Schnitzel - Woche
DESCRIPTION:Zu allen Gerichten servieren wir grünen Salat mit Schumacher D
 ressing:\n\nSchweineschnitzel mit Spiegelei und Bratkartoffeln\n\nSchweine
 schnitzel „Natur“ dazu Pilzrahmsauce und Bratkartoffeln\n\nHähnchens
 chnitzel an scharfer Currysauce dazu hausgemachtes Kartoffelpüree\n\n„C
 ordon bleu“ von der Pute mit hausgemachtem Kartoffelpüree\n\n  *   
 *   *\n\nGeniessen Sie hierzu einen\n\n1838er-Spritz\n1838er / Zitronenl
 imo / trockener Sekt\n\n  *   *   *\n\nWir wünschen einen angenehme
 n Aufenthalt und einen guten Appetit.
ATTACH;FMTTYPE=image/jpeg:https://staging.schumacher-alt.de/core/upl
 oads/2023/06/VA-Schnitzelwoche-1.png
CATEGORIES:Event
END:VEVENT
BEGIN:VTIMEZONE
TZID:Europe/Berlin
X-LIC-LOCATION:Europe/Berlin
BEGIN:DAYLIGHT
DTSTART:20250330T030000
TZOFFSETFROM:+0100
TZOFFSETTO:+0200
TZNAME:CEST
END:DAYLIGHT
END:VTIMEZONE
END:VCALENDAR