BEGIN:VCALENDAR
VERSION:2.0
PRODID:-//wp-events-plugin.com//7.2.3.1//EN
TZID:Europe/Berlin
X-WR-TIMEZONE:Europe/Berlin
BEGIN:VEVENT
UID:142@staging.schumacher-alt.de
DTSTART;TZID=Europe/Berlin;VALUE=DATE:20250613
DTEND;TZID=Europe/Berlin;VALUE=DATE:20250616
DTSTAMP:20250113T093513Z
URL:https://staging.schumacher-alt.de/veranstaltungen/schuetzenfest-kalkum
 /
SUMMARY:Schützenfest Kalkum
DESCRIPTION:Das Heimat- und Schützenfest Kalkum des ST. SEBASTIANUS BRUDER
 SCHAFT KALKUM 1429 e. V. steht wieder vor der Tür. Bei hoffentlich Kalkum
 -typischem Kaiserwetter\, tollen Musikdarbietungen für alle Generationen
  und mit feinstem Schumacher Alt!\n\n\n\n\nWann? 13.06.2025 - 15.06.2025\n
 \nWo? Schützenplatz Kalkum\n\nMehr Infos unter www.bruderschaft-kalkum.de
 \n\n\n\n\n\n\n\n\n
ATTACH;FMTTYPE=image/jpeg:https://staging.schumacher-alt.de/core/upl
 oads/2023/04/Schuetzenfest-Kalkum.jpg
CATEGORIES:Event
LOCATION:Schützenplatz Kalkum\, Kalkumer Schlossallee\, Zeppenheimer Stra
 ße\, Düsseldorf\, Deutschland
X-APPLE-STRUCTURED-LOCATION;VALUE=URI;X-ADDRESS=Kalkumer Schlossallee\, Zep
 penheimer Straße\, Düsseldorf\, Deutschland;X-APPLE-RADIUS=100;X-TITLE=S
 chützenplatz Kalkum:geo:0,0
END:VEVENT
BEGIN:VTIMEZONE
TZID:Europe/Berlin
X-LIC-LOCATION:Europe/Berlin
BEGIN:DAYLIGHT
DTSTART:20250330T030000
TZOFFSETFROM:+0100
TZOFFSETTO:+0200
TZNAME:CEST
END:DAYLIGHT
END:VTIMEZONE
END:VCALENDAR