BEGIN:VCALENDAR
VERSION:2.0
PRODID:-//wp-events-plugin.com//7.2.3.1//EN
TZID:Europe/Berlin
X-WR-TIMEZONE:Europe/Berlin
BEGIN:VEVENT
UID:176@staging.schumacher-alt.de
DTSTART;TZID=Europe/Berlin;VALUE=DATE:20250829
DTEND;TZID=Europe/Berlin;VALUE=DATE:20250903
DTSTAMP:20250819T102618Z
URL:https://staging.schumacher-alt.de/veranstaltungen/schuetzenfest-neuss/
SUMMARY:Schützenfest Neuss
DESCRIPTION:Wir versorgen vom 29.08.-02.09. das Schützenfest in Neuss wied
 er mit leckerem Schumacher Alt.\n\nHier sind wir zu finden.\n\nMehr Infos 
 unter www.schuetzenfest-neuss.com
ATTACH;FMTTYPE=image/jpeg:https://staging.schumacher-alt.de/core/upl
 oads/2023/04/VA_Neusser-Schuetzenfest-1.png
CATEGORIES:Event
LOCATION:Schützenfest Neuss\, Schützenplatz\, Neuss\, Deutschland
X-APPLE-STRUCTURED-LOCATION;VALUE=URI;X-ADDRESS=Schützenplatz\, Neuss\, De
 utschland;X-APPLE-RADIUS=100;X-TITLE=Schützenfest Neuss:geo:0,0
END:VEVENT
BEGIN:VTIMEZONE
TZID:Europe/Berlin
X-LIC-LOCATION:Europe/Berlin
BEGIN:DAYLIGHT
DTSTART:20250330T030000
TZOFFSETFROM:+0100
TZOFFSETTO:+0200
TZNAME:CEST
END:DAYLIGHT
END:VTIMEZONE
END:VCALENDAR