BEGIN:VCALENDAR
VERSION:2.0
PRODID:-//wp-events-plugin.com//7.2.3.1//EN
TZID:Europe/Berlin
X-WR-TIMEZONE:Europe/Berlin
BEGIN:VEVENT
UID:143@staging.schumacher-alt.de
DTSTART;TZID=Europe/Berlin;VALUE=DATE:20250711
DTEND;TZID=Europe/Berlin;VALUE=DATE:20250721
DTSTAMP:20250509T110723Z
URL:https://staging.schumacher-alt.de/veranstaltungen/schumacher-biergarte
 n-groesste-kirmes-am-rhein-2/
SUMMARY:Schumacher Biergarten – Größte Kirmes am Rhein
DESCRIPTION:Wir eröffnen wieder unseren "Schumacher Biergarten" auf der Gr
 ößten Kirmes am Rhein in Düsseldorf.\n\nMit DJ Sundance &amp\; Co\n\nMo
  - Fr ab 14:00 Uhr\nSa ab 13:00 Uhr\nSo ab 11:00 Uhr\n
ATTACH;FMTTYPE=image/jpeg:https://staging.schumacher-alt.de/core/upl
 oads/2023/04/Kirmes-Koebes-Team-e1681317165789.png
CATEGORIES:Event
LOCATION:Größte Kirmes am Rhein in Düsseldorf\, Oberkasseler Rheinwiesen
 \, Düsseldorf\, Deutschland
X-APPLE-STRUCTURED-LOCATION;VALUE=URI;X-ADDRESS=Oberkasseler Rheinwiesen\, 
 Düsseldorf\, Deutschland;X-APPLE-RADIUS=100;X-TITLE=Größte Kirmes am Rh
 ein in Düsseldorf:geo:0,0
END:VEVENT
BEGIN:VTIMEZONE
TZID:Europe/Berlin
X-LIC-LOCATION:Europe/Berlin
BEGIN:DAYLIGHT
DTSTART:20250330T030000
TZOFFSETFROM:+0100
TZOFFSETTO:+0200
TZNAME:CEST
END:DAYLIGHT
END:VTIMEZONE
END:VCALENDAR