BEGIN:VCALENDAR
VERSION:2.0
PRODID:-//wp-events-plugin.com//7.2.3.1//EN
TZID:Europe/Berlin
X-WR-TIMEZONE:Europe/Berlin
BEGIN:VEVENT
UID:171@staging.schumacher-alt.de
DTSTART;TZID=Europe/Berlin;VALUE=DATE:20250920
DTEND;TZID=Europe/Berlin;VALUE=DATE:20250921
DTSTAMP:20250712T074900Z
URL:https://staging.schumacher-alt.de/veranstaltungen/schumacher-open/
SUMMARY:Schumacher Open
DESCRIPTION:Bier\, Balls &amp\; Beats
ATTACH;FMTTYPE=image/jpeg:https://staging.schumacher-alt.de/core/upl
 oads/2025/07/bbb.jpeg
CATEGORIES:Event
LOCATION:Tennisclub Blau-Schwarz\, Lenaustraße 38\, Düsseldorf\, 40470\, 
 Deutschland
X-APPLE-STRUCTURED-LOCATION;VALUE=URI;X-ADDRESS=Lenaustraße 38\, Düsseldo
 rf\, 40470\, Deutschland;X-APPLE-RADIUS=100;X-TITLE=Tennisclub Blau-Schwar
 z:geo:0,0
END:VEVENT
BEGIN:VTIMEZONE
TZID:Europe/Berlin
X-LIC-LOCATION:Europe/Berlin
BEGIN:DAYLIGHT
DTSTART:20250330T030000
TZOFFSETFROM:+0100
TZOFFSETTO:+0200
TZNAME:CEST
END:DAYLIGHT
END:VTIMEZONE
END:VCALENDAR