BEGIN:VCALENDAR
VERSION:2.0
PRODID:-//wp-events-plugin.com//7.2.3.1//EN
TZID:Europe/Berlin
X-WR-TIMEZONE:Europe/Berlin
BEGIN:VEVENT
UID:177@staging.schumacher-alt.de
DTSTART;TZID=Europe/Berlin;VALUE=DATE:20250805
DTEND;TZID=Europe/Berlin;VALUE=DATE:20250811
DTSTAMP:20250806T114417Z
URL:https://staging.schumacher-alt.de/veranstaltungen/spareribswoche/
SUMMARY:Spare Ribs - Woche
DESCRIPTION:Genießen Sie \n\npikante Spare-Ribs\nneben Kartoffel-Wedges un
 d Coleslaw\ndazu BBQ-Sauce\n\n *   *   *\n\nGeniessen Sie hierzu eine
 n\n\n1838er-Spritz\n1838er / Zitronenlimo / trockener Sekt\n\n *   * 
   *\nWir wünschen einen angenehmen Aufenthalt und einen guten Appetit.
ATTACH;FMTTYPE=image/jpeg:https://staging.schumacher-alt.de/core/upl
 oads/2025/08/Spare-Ribs-Woche.jpg
CATEGORIES:Event
END:VEVENT
BEGIN:VTIMEZONE
TZID:Europe/Berlin
X-LIC-LOCATION:Europe/Berlin
BEGIN:DAYLIGHT
DTSTART:20250330T030000
TZOFFSETFROM:+0100
TZOFFSETTO:+0200
TZNAME:CEST
END:DAYLIGHT
END:VTIMEZONE
END:VCALENDAR