BEGIN:VCALENDAR
VERSION:2.0
PRODID:-//wp-events-plugin.com//7.2.3.1//EN
TZID:Europe/Berlin
X-WR-TIMEZONE:Europe/Berlin
BEGIN:VEVENT
UID:145@staging.schumacher-alt.de
DTSTART;TZID=Europe/Berlin;VALUE=DATE:20250222
DTEND;TZID=Europe/Berlin;VALUE=DATE:20250223
DTSTAMP:20250113T094822Z
URL:https://staging.schumacher-alt.de/veranstaltungen/strassenbahnsitzung/
SUMMARY:Straßenbahnsitzung der Hoppeditzwache
DESCRIPTION:\n\n\nKartenvorverkauf unter: hoppedizwache@web.de\n\n\n\nStra
 ßenbahnsitzung\nTreffpunkt Karlstrasse\, Nähe Hauptbahnhof.\nKartenbeste
 llungen werden ab sofort angenommen. Bitte beachtet\, dass wir – wegen u
 nserer treuen Stammgäste – nur ein  sehr begrenztes Kartenkontingent v
 erkaufen können. \n\n\n\n
ATTACH;FMTTYPE=image/jpeg:https://staging.schumacher-alt.de/core/upl
 oads/2023/11/Hoppi-1.png
CATEGORIES:Event
LOCATION:Stammhaus\, Oststraße 123\, Düsseldorf\, 40210\, Deutschland
X-APPLE-STRUCTURED-LOCATION;VALUE=URI;X-ADDRESS=Oststraße 123\, Düsseldor
 f\, 40210\, Deutschland;X-APPLE-RADIUS=100;X-TITLE=Stammhaus:geo:0,0
END:VEVENT
BEGIN:VTIMEZONE
TZID:Europe/Berlin
X-LIC-LOCATION:Europe/Berlin
BEGIN:STANDARD
DTSTART:20241027T020000
TZOFFSETFROM:+0200
TZOFFSETTO:+0100
TZNAME:CET
END:STANDARD
END:VTIMEZONE
END:VCALENDAR