BEGIN:VCALENDAR
VERSION:2.0
PRODID:-//wp-events-plugin.com//7.2.3.1//EN
TZID:Europe/Berlin
X-WR-TIMEZONE:Europe/Berlin
BEGIN:VEVENT
UID:134@staging.schumacher-alt.de
DTSTART;TZID=Europe/Berlin:20241204T113000
DTEND;TZID=Europe/Berlin:20241204T160000
DTSTAMP:20241021T051917Z
URL:https://staging.schumacher-alt.de/veranstaltungen/suppenlesung-der-fri
 edrich-spee-akademie-e-v-duesseldorf-4/
SUMMARY:Suppenlesung - der Friedrich-Spee-Akademie e.V. Düsseldorf
DESCRIPTION:"Heute hat die Köchin frei\, wir essen in der Brauerei!"\n\n&n
 bsp\;\n\nIn freundlicher Atmosphäre plaudert es sich besonders gut.\nUnd 
 die eine oder andere vorgetragene Geschichte erfreut die Anwesenden und re
 gt zum Austausch an.\n\nPlanen Sie diese nette Veranstaltung in Ihrem Term
 inkalender ein und lernen Sie andere Teilnehmer unserer Akademie kennen.\n
 \nKosten: nur Verzehr\nTeilnehmer: wer kütt\, der kütt\n\nReferentinnen:
  Angelika Peters\, Brigitte Göbels
ATTACH;FMTTYPE=image/jpeg:https://staging.schumacher-alt.de/core/upl
 oads/2023/04/SCHUMACHER_Braumeisterstube_7_c7920_1-scaled.jpg
CATEGORIES:Event
LOCATION:Stammhaus\, Oststraße 123\, Düsseldorf\, 40210\, Deutschland
X-APPLE-STRUCTURED-LOCATION;VALUE=URI;X-ADDRESS=Oststraße 123\, Düsseldor
 f\, 40210\, Deutschland;X-APPLE-RADIUS=100;X-TITLE=Stammhaus:geo:0,0
END:VEVENT
BEGIN:VTIMEZONE
TZID:Europe/Berlin
X-LIC-LOCATION:Europe/Berlin
BEGIN:STANDARD
DTSTART:20241027T020000
TZOFFSETFROM:+0200
TZOFFSETTO:+0100
TZNAME:CET
END:STANDARD
END:VTIMEZONE
END:VCALENDAR