BEGIN:VCALENDAR
VERSION:2.0
PRODID:-//wp-events-plugin.com//7.2.3.1//EN
TZID:Europe/Berlin
X-WR-TIMEZONE:Europe/Berlin
BEGIN:VEVENT
UID:179@staging.schumacher-alt.de
DTSTART;TZID=Europe/Berlin:20250819T000000
DTEND;TZID=Europe/Berlin:20250824T000000
DTSTAMP:20250806T114959Z
URL:https://staging.schumacher-alt.de/veranstaltungen/wuerstchen-woche/
SUMMARY:Würstchen - Woche
DESCRIPTION:Saftige Würstchen mit Sommersalat serviert:\n\nDrei Lammbratw
 ürstchen mit knusprigen Pommes frites\n\nDrei scharfe Düsseldorfer Salsi
 ccia (Schwein) mit Kartoffel-Zwiebelpüree\n\nDrei pikante Currywürstchen
  mit knusprigen Pommes frites\n\nDrei herzhafte Merguez-Würstchen (Kalb/L
 amm/Rind) mit Kartoffel-Zwiebelpüree\n\nDreierlei Würstchen (Lamm / Merg
 uez / Salsiccia) mit Kartoffel-Zwiebelpüree\n\n *   *   *\n\nGeniess
 en Sie hierzu einen\n\n1838er-Spritz\n\n1838er / Zitronenlimo / trockener 
 Sekt\n\n *   *   *\n\nWir wünschen einen angenehmen Aufenthalt und e
 inen guten Appetit.
ATTACH;FMTTYPE=image/jpeg:https://staging.schumacher-alt.de/core/upl
 oads/2023/06/VA-Wuerstchenwoche-1.png
CATEGORIES:Event
END:VEVENT
BEGIN:VTIMEZONE
TZID:Europe/Berlin
X-LIC-LOCATION:Europe/Berlin
BEGIN:DAYLIGHT
DTSTART:20250330T030000
TZOFFSETFROM:+0100
TZOFFSETTO:+0200
TZNAME:CEST
END:DAYLIGHT
END:VTIMEZONE
END:VCALENDAR